BEGIN:VCALENDAR
VERSION:2.0
PRODID:-//Pestalozzi-Oberschule Wilkau-Haßlau - ECPv6.15.18//NONSGML v1.0//EN
CALSCALE:GREGORIAN
METHOD:PUBLISH
X-ORIGINAL-URL:https://www.pesta-wilkau-hasslau.de
X-WR-CALDESC:Veranstaltungen für Pestalozzi-Oberschule Wilkau-Haßlau
REFRESH-INTERVAL;VALUE=DURATION:PT1H
X-Robots-Tag:noindex
X-PUBLISHED-TTL:PT1H
BEGIN:VTIMEZONE
TZID:Europe/Berlin
BEGIN:DAYLIGHT
TZOFFSETFROM:+0100
TZOFFSETTO:+0200
TZNAME:CEST
DTSTART:20160327T010000
END:DAYLIGHT
BEGIN:STANDARD
TZOFFSETFROM:+0200
TZOFFSETTO:+0100
TZNAME:CET
DTSTART:20161030T010000
END:STANDARD
BEGIN:DAYLIGHT
TZOFFSETFROM:+0100
TZOFFSETTO:+0200
TZNAME:CEST
DTSTART:20170326T010000
END:DAYLIGHT
BEGIN:STANDARD
TZOFFSETFROM:+0200
TZOFFSETTO:+0100
TZNAME:CET
DTSTART:20171029T010000
END:STANDARD
BEGIN:DAYLIGHT
TZOFFSETFROM:+0100
TZOFFSETTO:+0200
TZNAME:CEST
DTSTART:20180325T010000
END:DAYLIGHT
BEGIN:STANDARD
TZOFFSETFROM:+0200
TZOFFSETTO:+0100
TZNAME:CET
DTSTART:20181028T010000
END:STANDARD
END:VTIMEZONE
BEGIN:VEVENT
DTSTART;TZID=Europe/Berlin:20170927T080000
DTEND;TZID=Europe/Berlin:20170927T170000
DTSTAMP:20260423T113224
CREATED:20170908T100724Z
LAST-MODIFIED:20170908T102853Z
UID:854-1506499200-1506531600@www.pesta-wilkau-hasslau.de
SUMMARY:Sportfest
DESCRIPTION:
URL:https://www.pesta-wilkau-hasslau.de/event/sportfest/
LOCATION:Pestalozzi-Schule\, Schulstraße 27 b\, Wilkau-Haßlau\, Sachsen\, 08112\, Deutschland
CATEGORIES:Sport
ATTACH;FMTTYPE=image/png:https://www.pesta-wilkau-hasslau.de/wp-content/uploads/2017/06/Triathlon.png
END:VEVENT
END:VCALENDAR